Workbook

Sheet 物流部费用（总）
A1: 成本中心 | B1: 费用类型 | C1: 费用科目 | D1: 科目名称 | E1: 2024年1月 | F1: 2025年1月 | G1: 2024年2月 | H1: 2025年2月 | I1: 2024年3月 | J1: 2025年3月 | K1: 2024年4月 | L1: 2025年4月 | M1: 2024年5月 | N1: 2025年5月 | O1: 2024年6月 | P1: 2025年6月 | Q1: 2024年7月 | R1: 2025年7月 | S1: 2024年8月 | T1: 2025年8月 | U1: 2024年9月 | V1: 2025年9月 | W1: 2024年10月 | X1: 2025年10月 | Y1: 2024年11月 | Z1: 2025年11月 | AA1: 2024年12月 | AB1: 2025年12月21日 | AC1: 2024年合计 | AD1: 2025年合计
A2: 物流部-运输组 | B2: 运输费用 | C2: =VLOOKUP(B2,核算科目!B:C,2,0) -> 日常费用项目 | D2: 华润沧州医药有限公司.物流部-运输组.主营业务成本-运输成本.-.-.-.-.-.-.- | E2: 121612.06 | F2: -10073.49 | G2: 67529.22 | H2: 121038.28 | I2: 37601.54 | J2: 37822.44 | K2: 35948.97 | L2: 61672.05 | M2: 140749.32 | N2: 64856.62 | O2: 59147.71 | P2: 43613.01 | Q2: 67413.06 | R2: 115793.77 | S2: 45866.33 | T2: 60840.91 | U2: -37584.26 | V2: 56145.67 | W2: 164442.85 | X2: 30983.85 | Y2: 113095.75 | Z2: 77643.72 | AA2: 273740.85 | AB2: 137384.93 | AC2: =E2+G2+I2+K2+M2+O2+Q2+S2+U2+W2+Y2+AA2 -> 1089563.4 | AD2: =F2+H2+J2+L2+N2+P2+R2+T2+V2+X2+Z2+AB2 -> 797721.76
A3: 物流部-运输组 | B3: 其他 | C3: =VLOOKUP(B3,核算科目!B:C,2,0) -> 日常费用项目 | D3: 华润沧州医药有限公司.物流部-运输组.税金及附加-车船税.-.-.-.-.-.-.- | E3: 0 | F3: 38.16 | G3: 0 | H3: 660 | I3: 0 | J3: 0 | K3: 98.24 | L3: 98.24 | M3: 0 | N3: 0 | O3: 77.07 | P3: 98.4 | Q3: 51.36 | R3: 51.36 | S3: 0 | T3: 0 | U3: 0 | V3: 0 | W3: 0 | X3: 0 | Y3: 0 | Z3: 44.88 | AA3: 44.88 | AB3: 0 | AC3: =E3+G3+I3+K3+M3+O3+Q3+S3+U3+W3+Y3+AA3 -> 271.55 | AD3: =F3+H3+J3+L3+N3+P3+R3+T3+V3+X3+Z3+AB3 -> 991.04
A4: 物流部 | B4: 工资 | C4: =VLOOKUP(B4,核算科目!B:C,2,0) -> 员工成本 | D4: 华润沧州医药有限公司.物流部.销售费用-员工成本-工资.基本工资.-.-.-.-.-.- | E4: 12367 | F4: 19814 | G4: 23004 | H4: 19368 | I4: 17594 | J4: 20106 | K4: 20916 | L4: 17162 | M4: 17718 | N4: 20497 | O4: 19628 | P4: 18902 | Q4: 18298 | R4: 39838.4 | S4: 19032 | T4: 8928.3 | U4: 17586 | V4: 18936 | W4: 21168 | X4: 22466.74 | Y4: 17439 | Z4: 17907.63 | AA4: 18939 | AB4: 29607.44 | AC4: =E4+G4+I4+K4+M4+O4+Q4+S4+U4+W4+Y4+AA4 -> 223689 | AD4: =F4+H4+J4+L4+N4+P4+R4+T4+V4+X4+Z4+AB4 -> 253533.51
A5: 物流部-运输组 | B5: 工资 | C5: =VLOOKUP(B5,核算科目!B:C,2,0) -> 员工成本 | D5: 华润沧州医药有限公司.物流部-运输组.销售费用-员工成本-工资.基本工资.-.-.-.-.-.- | E5: 58896.55 | F5: 61910.33 | G5: 86648.04 | H5: 67702.52 | I5: 72505.89 | J5: 76092.16 | K5: 83507.56 | L5: 63887.64 | M5: 61863.51 | N5: 74304.68 | O5: 74598.53 | P5: 68862.04 | Q5: 70726.58 | R5: 65526.31 | S5: 68930.31 | T5: 66303.55 | U5: 63325.53 | V5: 65878.1 | W5: 79601.93 | X5: 75855.2 | Y5: 63270.97 | Z5: 65210.59 | AA5: 69125.09 | AB5: 69774.06 | AC5: =E5+G5+I5+K5+M5+O5+Q5+S5+U5+W5+Y5+AA5 -> 853000.49 | AD5: =F5+H5+J5+L5+N5+P5+R5+T5+V5+X5+Z5+AB5 -> 821307.18
A6: 物流部-仓储组 | B6: 工资 | C6: =VLOOKUP(B6,核算科目!B:C,2,0) -> 员工成本 | D6: 华润沧州医药有限公司.物流部-仓储组.销售费用-员工成本-工资.基本工资.-.-.-.-.-.- | E6: 94302.44 | F6: 112227.72 | G6: 103190.96 | H6: 112646.43 | I6: 85756.25 | J6: 112592.02 | K6: 107336.21 | L6: 88790.41 | M6: 91397.02 | N6: 115617.55 | O6: 99344.83 | P6: 104182.39 | Q6: 96046.49 | R6: 91096.97 | S6: 105222.58 | T6: 114457.22 | U6: 94229.04 | V6: 108630.88 | W6: 115656.99 | X6: 130909.82 | Y6: 97376.53 | Z6: 99484.71 | AA6: 107559.53 | AB6: 102709.21 | AC6: =E6+G6+I6+K6+M6+O6+Q6+S6+U6+W6+Y6+AA6 -> 1197418.9 | AD6: =F6+H6+J6+L6+N6+P6+R6+T6+V6+X6+Z6+AB6 -> 1293345.3
A7: 物流部-综合组 | B7: 工资 | C7: =VLOOKUP(B7,核算科目!B:C,2,0) -> 员工成本 | D7: 华润沧州医药有限公司.物流部-综合组.销售费用-员工成本-工资.基本工资.-.-.-.-.-.- | E7: 4516 | F7: 5626 | G7: 5756 | H7: 5123 | I7: 5036 | J7: 5538 | K7: 5549 | L7: 4933 | M7: 4918.48 | N7: 5557 | O7: 5437.26 | P7: 5301 | Q7: 4970 | R7: 5424 | S7: 5381 | T7: 5178 | U7: 4777 | V7: 5210 | W7: 5893 | X7: 6392 | Y7: 4894 | Z7: 4924 | AA7: 5258 | AB7: 5589 | AC7: =E7+G7+I7+K7+M7+O7+Q7+S7+U7+W7+Y7+AA7 -> 62385.74 | AD7: =F7+H7+J7+L7+N7+P7+R7+T7+V7+X7+Z7+AB7 -> 64795
A8: 物流部 | B8: 奖金 | C8: =VLOOKUP(B8,核算科目!B:C,2,0) -> 员工成本 | D8: 华润沧州医药有限公司.物流部.销售费用-员工成本-奖金.-.-.-.-.-.-.- | E8: 0 | G8: 1200 | I8: -600 | J8: 16600 | K8: 0 | L8: -8300 | M8: 0 | N8: 0 | O8: 0 | P8: 0 | Q8: 0 | R8: 0 | S8: 0 | T8: 4000 | U8: 0 | V8: -2000 | W8: 0 | X8: 0 | Y8: 0 | Z8: 0 | AA8: 0 | AB8: 0 | AC8: =E8+G8+I8+K8+M8+O8+Q8+S8+U8+W8+Y8+AA8 -> 600 | AD8: =F8+H8+J8+L8+N8+P8+R8+T8+V8+X8+Z8+AB8 -> 10300
A9: 物流部-运输组 | B9: 奖金 | C9: =VLOOKUP(B9,核算科目!B:C,2,0) -> 员工成本 | D9: 华润沧州医药有限公司.物流部-运输组.销售费用-员工成本-奖金.-.-.-.-.-.-.- | E9: 0 | G9: 8350 | I9: -4175 | J9: 7800 | K9: 0 | L9: -3500 | M9: 0 | N9: -200 | O9: 0 | P9: 0 | Q9: 0 | R9: 0 | S9: 0 | T9: 0 | U9: 0 | V9: 0 | W9: 0 | X9: 0 | Y9: 0 | Z9: 0 | AA9: 0 | AB9: 0 | AC9: =E9+G9+I9+K9+M9+O9+Q9+S9+U9+W9+Y9+AA9 -> 4175 | AD9: =F9+H9+J9+L9+N9+P9+R9+T9+V9+X9+Z9+AB9 -> 4100
A10: 物流部-仓储组 | B10: 奖金 | C10: =VLOOKUP(B10,核算科目!B:C,2,0) -> 员工成本 | D10: 华润沧州医药有限公司.物流部-仓储组.销售费用-员工成本-奖金.-.-.-.-.-.-.- | E10: 200 | G10: 12750 | I10: -6425 | J10: 13500 | K10: 0 | L10: -6350 | M10: 0 | N10: -200 | O10: 0 | P10: 0 | Q10: 0 | R10: 0 | S10: 0 | T10: 0 | U10: 0 | V10: 0 | W10: 0 | X10: 0 | Y10: 0 | Z10: 0 | AA10: 0 | AB10: 0 | AC10: =E10+G10+I10+K10+M10+O10+Q10+S10+U10+W10+Y10+AA10 -> 6525 | AD10: =F10+H10+J10+L10+N10+P10+R10+T10+V10+X10+Z10+AB10 -> 6950
A11: 物流部-综合组 | B11: 奖金 | C11: =VLOOKUP(B11,核算科目!B:C,2,0) -> 员工成本 | D11: 华润沧州医药有限公司.物流部-综合组.销售费用-员工成本-奖金.-.-.-.-.-.-.- | E11: 0 | G11: 600 | I11: -300 | J11: 2000 | K11: 0 | L11: -1000 | M11: 0 | N11: 0 | O11: 0 | P11: 0 | Q11: 0 | R11: 0 | S11: 0 | T11: 0 | U11: 0 | V11: 0 | W11: 0 | X11: 0 | Y11: 0 | Z11: 0 | AA11: 0 | AB11: 0 | AC11: =E11+G11+I11+K11+M11+O11+Q11+S11+U11+W11+Y11+AA11 -> 300 | AD11: =F11+H11+J11+L11+N11+P11+R11+T11+V11+X11+Z11+AB11 -> 1000
A12: 物流部 | B12: 津贴及补贴 | C12: =VLOOKUP(B12,核算科目!B:C,2,0) -> 员工成本 | D12: 华润沧州医药有限公司.物流部.销售费用-员工成本-津贴及补贴.-.-.-.-.-.-.- | E12: 956 | F12: 1176 | G12: 1396 | H12: 1216 | I12: 1176 | J12: 1196 | K12: 1176 | L12: 1196 | M12: 1176 | N12: 1196 | O12: 1176 | P12: 1196 | Q12: 1176 | R12: 2868 | S12: 1176 | T12: 360 | U12: 1176 | V12: 1196 | W12: 1176 | X12: 1196 | Y12: 1176 | Z12: 1196 | AA12: 1176 | AB12: 2004 | AC12: =E12+G12+I12+K12+M12+O12+Q12+S12+U12+W12+Y12+AA12 -> 14112 | AD12: =F12+H12+J12+L12+N12+P12+R12+T12+V12+X12+Z12+AB12 -> 15996
A13: 物流部-运输组 | B13: 津贴及补贴 | C13: =VLOOKUP(B13,核算科目!B:C,2,0) -> 员工成本 | D13: 华润沧州医药有限公司.物流部-运输组.销售费用-员工成本-津贴及补贴.-.-.-.-.-.-.- | E13: 11734 | F13: 11244 | G13: 14508 | H13: 13440 | I13: 13040 | J13: 12544 | K13: 13032 | L13: 12048 | M13: 11876 | N13: 12288 | O13: 12504 | P13: 12748 | Q13: 12536 | R13: 14088 | S13: 11692 | T13: 13472 | U13: 11984 | V13: 13360 | W13: 12082 | X13: 13038 | Y13: 12042 | Z13: 13654 | AA13: 12052 | AB13: 13206 | AC13: =E13+G13+I13+K13+M13+O13+Q13+S13+U13+W13+Y13+AA13 -> 149082 | AD13: =F13+H13+J13+L13+N13+P13+R13+T13+V13+X13+Z13+AB13 -> 155130
A14: 物流部-仓储组 | B14: 津贴及补贴 | C14: =VLOOKUP(B14,核算科目!B:C,2,0) -> 员工成本 | D14: 华润沧州医药有限公司.物流部-仓储组.销售费用-员工成本-津贴及补贴.-.-.-.-.-.-.- | E14: 8096 | F14: 9984 | G14: 10724 | H14: 10216 | I14: 11659.2 | J14: 10412 | K14: 8140.4 | L14: 9248 | M14: 9320 | N14: 10424 | O14: 9312 | P14: 9984 | Q14: 9844 | R14: 8244 | S14: 9652 | T14: 10876 | U14: 9624 | V14: 10116 | W14: 9604 | X14: 10114 | Y14: 9788 | Z14: 10052 | AA14: 10268 | AB14: 9242 | AC14: =E14+G14+I14+K14+M14+O14+Q14+S14+U14+W14+Y14+AA14 -> 116031.6 | AD14: =F14+H14+J14+L14+N14+P14+R14+T14+V14+X14+Z14+AB14 -> 118912
A15: 物流部-综合组 | B15: 津贴及补贴 | C15: =VLOOKUP(B15,核算科目!B:C,2,0) -> 员工成本 | D15: 华润沧州医药有限公司.物流部-综合组.销售费用-员工成本-津贴及补贴.-.-.-.-.-.-.- | E15: 368 | F15: 488 | G15: 608 | H15: 528 | I15: 488 | J15: 508 | K15: 488 | L15: 508 | M15: 488 | N15: 508 | O15: 488 | P15: 508 | Q15: 488 | R15: 508 | S15: 488 | T15: 508 | U15: 488 | V15: 508 | W15: 488 | X15: 508 | Y15: 488 | Z15: 508 | AA15: 488 | AB15: 508 | AC15: =E15+G15+I15+K15+M15+O15+Q15+S15+U15+W15+Y15+AA15 -> 5856 | AD15: =F15+H15+J15+L15+N15+P15+R15+T15+V15+X15+Z15+AB15 -> 6096
A16: 物流部-仓储组 | B16: 工作餐 | C16: =VLOOKUP(B16,核算科目!B:C,2,0) -> 员工成本 | D16: 华润沧州医药有限公司.物流部-仓储组.销售费用-员工成本-福利费-工作餐.-.-.-.-.-.-.- | E16: 0 | F16: 0 | G16: 8505 | H16: 7125 | I16: 5100 | J16: 5655 | K16: 6420 | L16: 6300 | M16: 7860 | N16: 6165 | O16: 7845 | P16: 5655 | Q16: 7170 | R16: 8295 | S16: 6885 | T16: 9510 | U16: 6915 | V16: 8985 | W16: 7005 | X16: 11070 | Y16: 5670 | Z16: 9430 | AA16: 12210 | AB16: 8760 | AC16: =E16+G16+I16+K16+M16+O16+Q16+S16+U16+W16+Y16+AA16 -> 81585 | AD16: =F16+H16+J16+L16+N16+P16+R16+T16+V16+X16+Z16+AB16 -> 86950
A17: 物流部 | B17: 基本医疗保险 | C17: =VLOOKUP(B17,核算科目!B:C,2,0) -> 员工成本 | D17: 华润沧州医药有限公司.物流部.销售费用-员工成本-社会保险费-基本医疗保险.-.-.-.-.-.-.- | E17: 1270.1 | F17: 1471.51 | G17: 1486.1 | H17: 1687.51 | I17: 1162.1 | J17: 1363.51 | K17: 1270.1 | L17: 1471.51 | M17: 1270.1 | N17: 1471.51 | O17: 1270.1 | P17: 1471.51 | Q17: 1270.1 | R17: 3468.87 | S17: 1672.92 | T17: 745.85 | U17: 1471.51 | V17: 1608.02 | W17: 1471.51 | X17: 1608.02 | Y17: 1471.51 | Z17: 1608.02 | AA17: 1471.51 | AB17: 2623.38 | AC17: =E17+G17+I17+K17+M17+O17+Q17+S17+U17+W17+Y17+AA17 -> 16557.66 | AD17: =F17+H17+J17+L17+N17+P17+R17+T17+V17+X17+Z17+AB17 -> 20599.22
A18: 物流部-运输组 | B18: 基本医疗保险 | C18: =VLOOKUP(B18,核算科目!B:C,2,0) -> 员工成本 | D18: 华润沧州医药有限公司.物流部-运输组.销售费用-员工成本-社会保险费-基本医疗保险.-.-.-.-.-.-.- | E18: 7449.63 | F18: 6140.51 | G18: 9069.63 | H18: 8043.85 | I18: 6639.63 | J18: 5937.85 | K18: 7449.63 | L18: 6639.85 | M18: 6487.29 | N18: 6639.85 | O18: 6968.46 | P18: 6639.85 | Q18: 6968.46 | R18: 6639.85 | S18: 7309.92 | T18: 6921.93 | U18: 7139.19 | V18: 6780.89 | W18: 7139.19 | X18: 6780.89 | Y18: 7139.19 | Z18: 6780.89 | AA18: 7139.19 | AB18: 6780.89 | AC18: =E18+G18+I18+K18+M18+O18+Q18+S18+U18+W18+Y18+AA18 -> 86899.41 | AD18: =F18+H18+J18+L18+N18+P18+R18+T18+V18+X18+Z18+AB18 -> 80727.1
A19: 物流部-仓储组 | B19: 基本医疗保险 | C19: =VLOOKUP(B19,核算科目!B:C,2,0) -> 员工成本 | D19: 华润沧州医药有限公司.物流部-仓储组.销售费用-员工成本-社会保险费-基本医疗保险.-.-.-.-.-.-.- | E19: 10671.05 | F19: 10486.14 | G19: 11216.92 | H19: 13860.82 | I19: 8543.4 | J19: 9797.48 | K19: 10585.74 | L19: 10094.8 | M19: 9142.23 | N19: 10432.14 | O19: 9623.4 | P19: 10486.14 | Q19: 9623.4 | R19: 8488.78 | S19: 10350.2 | T19: 11850.78 | U19: 9986.8 | V19: 11792.48 | W19: 9986.8 | X19: 11122.8 | Y19: 11093.48 | Z19: 11176.8 | AA19: 10432.14 | AB19: 10161.44 | AC19: =E19+G19+I19+K19+M19+O19+Q19+S19+U19+W19+Y19+AA19 -> 121255.56 | AD19: =F19+H19+J19+L19+N19+P19+R19+T19+V19+X19+Z19+AB19 -> 129750.6
A20: 物流部-综合组 | B20: 基本医疗保险 | C20: =VLOOKUP(B20,核算科目!B:C,2,0) -> 员工成本 | D20: 华润沧州医药有限公司.物流部-综合组.销售费用-员工成本-社会保险费-基本医疗保险.-.-.-.-.-.-.- | E20: 481.17 | F20: 499.34 | G20: 589.17 | H20: 607.34 | I20: 427.17 | J20: 445.34 | K20: 481.17 | L20: 499.34 | M20: 481.17 | N20: 499.34 | O20: 481.17 | P20: 499.34 | Q20: 481.17 | R20: 499.34 | S20: 517.51 | T20: 516.02 | U20: 499.34 | V20: 507.68 | W20: 499.34 | X20: 507.68 | Y20: 499.34 | Z20: 507.68 | AA20: 499.34 | AB20: 507.68 | AC20: =E20+G20+I20+K20+M20+O20+Q20+S20+U20+W20+Y20+AA20 -> 5937.06 | AD20: =F20+H20+J20+L20+N20+P20+R20+T20+V20+X20+Z20+AB20 -> 6096.12
A21: 物流部 | B21: 基本养老保险 | C21: =VLOOKUP(B21,核算科目!B:C,2,0) -> 员工成本 | D21: 华润沧州医药有限公司.物流部.销售费用-员工成本-社会保险费-基本养老保险.-.-.-.-.-.-.- | E21: 2673.3 | F21: 2943.03 | G21: 2673.3 | H21: 2943.03 | I21: 2673.3 | J21: 2943.03 | K21: 2673.3 | L21: 2943.03 | M21: 2673.3 | N21: 2943.03 | O21: 2673.3 | P21: 2943.03 | Q21: 2673.3 | R21: 5585.81 | S21: 6449.52 | T21: 5444.06 | U21: 1324.65 | V21: 1577.88 | W21: 2943.03 | X21: 3216.06 | Y21: 2943.03 | Z21: 3216.06 | AA21: 2943.03 | AB21: 4498.3 | AC21: =E21+G21+I21+K21+M21+O21+Q21+S21+U21+W21+Y21+AA21 -> 35316.36 | AD21: =F21+H21+J21+L21+N21+P21+R21+T21+V21+X21+Z21+AB21 -> 41196.35
A22: 物流部-运输组 | B22: 基本养老保险 | C22: =VLOOKUP(B22,核算科目!B:C,2,0) -> 员工成本 | D22: 华润沧州医药有限公司.物流部-运输组.销售费用-员工成本-社会保险费-基本养老保险.-.-.-.-.-.-.- | E22: 13455.49 | F22: 10612.7 | G22: 12891.03 | H22: 11395.18 | I22: 13173.26 | J22: 11395.18 | K22: 13173.26 | L22: 11729 | M22: 11446.62 | N22: 11562.09 | O22: 12309.94 | P22: 11562.09 | Q22: 12309.94 | R22: 11562.09 | S22: 18007.7 | T22: 30060.65 | U22: 9196.5 | V22: 4906.93 | W22: 12177.66 | X22: 12859.15 | Y22: 12177.66 | Z22: 12859.15 | AA22: 12177.66 | AB22: 12859.15 | AC22: =E22+G22+I22+K22+M22+O22+Q22+S22+U22+W22+Y22+AA22 -> 152496.72 | AD22: =F22+H22+J22+L22+N22+P22+R22+T22+V22+X22+Z22+AB22 -> 153363.36
A23: 物流部-仓储组 | B23: 基本养老保险 | C23: =VLOOKUP(B23,核算科目!B:C,2,0) -> 员工成本 | D23: 华润沧州医药有限公司.物流部-仓储组.销售费用-员工成本-社会保险费-基本养老保险.-.-.-.-.-.-.- | E23: 17200.78 | F23: 15904.33 | G23: 14414.84 | H23: 17158.91 | I23: 15509.68 | J23: 16531.62 | K23: 15509.68 | L23: 14475.72 | M23: 15509.68 | N23: 15611.67 | O23: 15509.68 | P23: 15557.67 | Q23: 15509.68 | R23: 12914.89 | S23: 20084.38 | T23: 44944.62 | U23: 12757.05 | V23: 6552.59 | W23: 15277.04 | X23: 18071.52 | Y23: 16531.62 | Z23: 18818.34 | AA23: 15904.33 | AB23: 16526.51 | AC23: =E23+G23+I23+K23+M23+O23+Q23+S23+U23+W23+Y23+AA23 -> 189718.44 | AD23: =F23+H23+J23+L23+N23+P23+R23+T23+V23+X23+Z23+AB23 -> 213068.39
... A48: 物流部-仓储组 | B48: 电费 | C48: =VLOOKUP(B48,核算科目!B:C,2,0) -> 日常费用项目 | D48: 华润沧州医药有限公司.物流部-仓储组.销售费用-能源费.电费.-.-.-.-.-.- | E48: 0 | F48: -10374.51 | G48: 0 | H48: 94747.47 | I48: 0 | J48: -7527.86 | K48: 0 | L48: 40000 | M48: 0 | N48: 39987.7 | O48: 0 | P48: 44412.37 | Q48: 0 | R48: 83543.06 | S48: 0 | T48: 78054.76 | U48: 0 | V48: 35886.54 | W48: 0 | X48: 28708.09 | Y48: 25000 | Z48: -10445.59 | AA48: 38704.61 | AB48: 0 | AC48: =E48+G48+I48+K48+M48+O48+Q48+S48+U48+W48+Y48+AA48 -> 63704.61 | AD48: =F48+H48+J48+L48+N48+P48+R48+T48+V48+X48+Z48+AB48 -> 416992.03
A49: 物流部-综合组 | B49: 电费 | C49: =VLOOKUP(B49,核算科目!B:C,2,0) -> 日常费用项目 | D49: 华润沧州医药有限公司.物流部-综合组.销售费用-能源费.电费.-.-.-.-.-.- | E49: 61376.49 | G49: 59038.58 | I49: 32664.4 | J49: 35000 | K49: 29060.28 | L49: -15013.62 | M49: 24226.39 | N49: -19986.38 | O49: 52812.82 | P49: 0 | Q49: 69575.44 | R49: 0 | S49: 75303.08 | T49: 0 | U49: 52159.38 | V49: 0 | W49: 14737.38 | X49: 0 | Y49: -18716.81 | Z49: 22000 | AA49: 0 | AB49: -5386.33 | AC49: =E49+G49+I49+K49+M49+O49+Q49+S49+U49+W49+Y49+AA49 -> 452237.43 | AD49: =F49+H49+J49+L49+N49+P49+R49+T49+V49+X49+Z49+AB49 -> 16613.67
A50: 物流部-仓储组 | B50: 租赁费用 | C50: =VLOOKUP(B50,核算科目!B:C,2,0) -> 日常费用项目 | D50: 华润沧州医药有限公司.物流部-仓储组.销售费用-租赁费用.其他.-.-.-.-.-.- | E50: 17580.28 | G50: 17580.28 | I50: 0 | K50: 35160.72 | L50: 6000 | M50: 17580.28 | N50: 0 | O50: 17580.28 | P50: 0 | Q50: 17580.28 | R50: 0 | S50: 17580.28 | T50: 0 | U50: 17580.28 | V50: 0 | W50: 0 | X50: 0 | Y50: 6000 | Z50: 0 | AA50: -95229.4 | AB50: 0 | AC50: =E50+G50+I50+K50+M50+O50+Q50+S50+U50+W50+Y50+AA50 -> 68993.28 | AD50: =F50+H50+J50+L50+N50+P50+R50+T50+V50+X50+Z50+AB50 -> 6000
A51: 物流部-运输组 | B51: 路桥费 | C51: =VLOOKUP(B51,核算科目!B:C,2,0) -> 日常费用项目 | D51: 华润沧州医药有限公司.物流部-运输组.销售费用-车辆费用.路桥费.-.-.-.-.-.- | E51: 0 | F51: 1881.29 | G51: 0 | H51: 4221.15 | I51: 8623.09 | J51: 3467.51 | K51: 2076.32 | L51: 4351.81 | M51: 4032.59 | N51: 0 | O51: 3054.37 | P51: 6594.99 | Q51: 2989.71 | R51: 3820.95 | S51: 4481.4 | T51: 3533.11 | U51: 3065.02 | V51: 3781.45 | W51: 3280.3 | X51: 2356.19 | Y51: 3290.33 | Z51: 3310.39 | AA51: 4605.6 | AB51: 0 | AC51: =E51+G51+I51+K51+M51+O51+Q51+S51+U51+W51+Y51+AA51 -> 39498.73 | AD51: =F51+H51+J51+L51+N51+P51+R51+T51+V51+X51+Z51+AB51 -> 37318.84
A52: 物流部-运输组 | B52: 维修及保养费 | C52: =VLOOKUP(B52,核算科目!B:C,2,0) -> 日常费用项目 | D52: 华润沧州医药有限公司.物流部-运输组.销售费用-车辆费用.维修及保养费.-.-.-.-.-.- | E52: 0 | F52: 0 | G52: 0 | H52: 23977.03 | I52: 0 | J52: 2410 | K52: 16628.19 | L52: 5131.98 | M52: 19510.58 | N52: 15064.36 | O52: 1627.91 | P52: 0 | Q52: 0 | R52: 0 | S52: 0 | T52: 16294.66 | U52: 0 | V52: 0 | W52: 15803.12 | X52: 29867.08 | Y52: 1627.57 | Z52: 23494.74 | AA52: 13601.52 | AB52: 0 | AC52: =E52+G52+I52+K52+M52+O52+Q52+S52+U52+W52+Y52+AA52 -> 68798.89 | AD52: =F52+H52+J52+L52+N52+P52+R52+T52+V52+X52+Z52+AB52 -> 116239.85
A53: 物流部-运输组 | B53: 燃料费 | C53: =VLOOKUP(B53,核算科目!B:C,2,0) -> 日常费用项目 | D53: 华润沧州医药有限公司.物流部-运输组.销售费用-车辆费用.燃料费.-.-.-.-.-.- | E53: -3188.35 | F53: -2920.91 | G53: 24558.55 | H53: 24017.65 | I53: 15427.87 | J53: 17307.63 | K53: 22255.82 | L53: 21312.53 | M53: 24228.63 | N53: 19525.79 | O53: 22169.26 | P53: 19694.57 | Q53: 22869.06 | R53: 18789.82 | S53: 28991.14 | T53: 23485.07 | U53: 25393.27 | V53: 21335.79 | W53: 24539.76 | X53: 21607.89 | Y53: 18560.24 | Z53: 14636.02 | AA53: 51412.73 | AB53: 17610.45 | AC53: =E53+G53+I53+K53+M53+O53+Q53+S53+U53+W53+Y53+AA53 -> 277217.98 | AD53: =F53+H53+J53+L53+N53+P53+R53+T53+V53+X53+Z53+AB53 -> 216402.3
A54: 物流部-运输组 | B54: 其他车辆费用 | C54: =VLOOKUP(B54,核算科目!B:C,2,0) -> 日常费用项目 | D54: 华润沧州医药有限公司.物流部-运输组.销售费用-车辆费用.其他.-.-.-.-.-.- | E54: 0 | F54: 0 | G54: 380 | H54: 2389.9 | I54: 0 | J54: 0 | K54: 2020 | L54: 0 | M54: 440 | N54: 0 | O54: 440 | P54: 1350 | Q54: 2859.96 | R54: 45.14 | S54: 0 | T54: 0 | U54: 0 | V54: 49.9 | W54: 0 | X54: 0 | Y54: 360 | Z54: 1569.9 | AA54: 0 | AB54: 460 | AC54: =E54+G54+I54+K54+M54+O54+Q54+S54+U54+W54+Y54+AA54 -> 6499.96 | AD54: =F54+H54+J54+L54+N54+P54+R54+T54+V54+X54+Z54+AB54 -> 5864.84
A55: 物流部-仓储组 | B55: 耗用品费用 | C55: =VLOOKUP(B55,核算科目!B:C,2,0) -> 日常费用项目 | D55: 华润沧州医药有限公司.物流部-仓储组.销售费用-耗用品费用.-.-.-.-.-.-.- | E55: 0 | F55: 9728.99 | G55: 0 | H55: 2263.19 | I55: 0 | J55: 219.13 | K55: 1725.66 | L55: 4658.88 | M55: 0 | N55: 0 | O55: 5398.23 | P55: 13035.05 | Q55: 7433.63 | R55: 1673.65 | S55: 1592.92 | T55: 12094.74 | U55: 547 | V55: 0 | W55: 900 | X55: 0 | Y55: 11071.46 | Z55: 0 | AA55: 0 | AB55: 7911.84 | AC55: =E55+G55+I55+K55+M55+O55+Q55+S55+U55+W55+Y55+AA55 -> 28668.9 | AD55: =F55+H55+J55+L55+N55+P55+R55+T55+V55+X55+Z55+AB55 -> 51585.47
A56: 物流部-综合组 | B56: 耗用品费用 | C56: =VLOOKUP(B56,核算科目!B:C,2,0) -> 日常费用项目 | D56: 华润沧州医药有限公司.物流部-综合组.销售费用-耗用品费用.-.-.-.-.-.-.- | E56: 0 | G56: 0 | I56: 4424.78 | K56: 2255.41 | L56: 2906.33 | M56: 0 | N56: 0 | O56: 0 | P56: 0 | Q56: 2343.56 | R56: 0 | S56: 0 | T56: 0 | U56: 0 | V56: 0 | W56: 2520.62 | X56: 0 | Y56: 0 | Z56: 0 | AA56: 0 | AB56: 0 | AC56: =E56+G56+I56+K56+M56+O56+Q56+S56+U56+W56+Y56+AA56 -> 11544.37 | AD56: =F56+H56+J56+L56+N56+P56+R56+T56+V56+X56+Z56+AB56 -> 2906.33
A57: 物流部 | B57: 业务招待费 | C57: =VLOOKUP(B57,核算科目!B:C,2,0) -> 日常费用项目 | D57: 华润沧州医药有限公司.物流部.销售费用-业务招待费.-.-.-.-.-.-.- | E57: 0 | F57: 0 | G57: 0 | H57: 3313 | I57: 0 | J57: 0 | K57: 0 | L57: 0 | M57: 0 | N57: 0 | O57: 665 | P57: 0 | Q57: 0 | R57: 0 | S57: 0 | T57: 0 | U57: 0 | V57: 0 | W57: 0 | X57: 0 | Y57: 0 | Z57: 0 | AA57: 0 | AB57: 0 | AC57: =E57+G57+I57+K57+M57+O57+Q57+S57+U57+W57+Y57+AA57 -> 665 | AD57: =F57+H57+J57+L57+N57+P57+R57+T57+V57+X57+Z57+AB57 -> 3313
A58: 物流部-仓储组 | B58: 业务招待费 | C58: =VLOOKUP(B58,核算科目!B:C,2,0) -> 日常费用项目 | D58: 华润沧州医药有限公司.物流部-仓储组.销售费用-业务招待费.-.-.-.-.-.-.- | E58: 0 | F58: 0 | G58: 320 | H58: 690 | I58: 0 | J58: 0 | K58: 620 | L58: 0 | M58: 0 | N58: 0 | O58: 0 | P58: 0 | Q58: 0 | R58: 0 | S58: 0 | T58: 0 | U58: 1600 | V58: 0 | W58: 760 | X58: 0 | Y58: 0 | Z58: 0 | AA58: 0 | AB58: 0 | AC58: =E58+G58+I58+K58+M58+O58+Q58+S58+U58+W58+Y58+AA58 -> 3300 | AD58: =F58+H58+J58+L58+N58+P58+R58+T58+V58+X58+Z58+AB58 -> 690
A59: 物流部-仓储组 | B59: 行政收费 | C59: =VLOOKUP(B59,核算科目!B:C,2,0) -> 日常费用项目 | D59: 华润沧州医药有限公司.物流部-仓储组.销售费用-行政收费-其他.-.-.-.-.-.-.- | E59: 0 | F59: 159.3 | G59: 0 | H59: 219.6 | I59: 0 | J59: 0 | K59: 0 | L59: 0 | M59: 0 | N59: 423 | O59: 0 | P59: 219.6 | Q59: 0 | R59: 354.6 | S59: 0 | T59: 0 | U59: 0 | V59: 528.3 | W59: 0 | X59: 413.1 | Y59: 0 | Z59: 206.1 | AA59: 174.6 | AB59: 0 | AC59: =E59+G59+I59+K59+M59+O59+Q59+S59+U59+W59+Y59+AA59 -> 174.6 | AD59: =F59+H59+J59+L59+N59+P59+R59+T59+V59+X59+Z59+AB59 -> 2523.6
A60: 物流部-综合组 | B60: 行政收费 | C60: =VLOOKUP(B60,核算科目!B:C,2,0) -> 日常费用项目 | D60: 华润沧州医药有限公司.物流部-综合组.销售费用-行政收费-其他.-.-.-.-.-.-.- | E60: 0 | G60: 0 | I60: 566.04 | J60: 146.7 | K60: 1162.9 | L60: 156.48 | M60: 0 | N60: 0 | O60: 2970.3 | P60: 0 | Q60: 1187.1 | R60: 0 | S60: 671.4 | T60: 445.5 | U60: 667.8 | V60: 0 | W60: 702 | X60: 0 | Y60: 248.4 | Z60: 0 | AA60: 0 | AB60: 0 | AC60: =E60+G60+I60+K60+M60+O60+Q60+S60+U60+W60+Y60+AA60 -> 8175.94 | AD60: =F60+H60+J60+L60+N60+P60+R60+T60+V60+X60+Z60+AB60 -> 748.68
A61: 物流部-综合组 | B61: 行政收费 | C61: =VLOOKUP(B61,核算科目!B:C,2,0) -> 日常费用项目 | D61: 华润沧州医药有限公司.物流部-综合组.销售费用-行政收费-其他.其他.-.-.-.-.-.- | E61: 0 | G61: 0 | I61: 0 | J61: 210 | K61: 0 | L61: 97.56 | M61: 0 | N61: 0 | O61: 0 | P61: 0 | Q61: 0 | R61: 210 | S61: 0 | T61: 0 | U61: 0 | V61: 0 | W61: 0 | X61: 0 | Y61: 0 | Z61: 0 | AA61: 0 | AB61: 0 | AC61: =E61+G61+I61+K61+M61+O61+Q61+S61+U61+W61+Y61+AA61 -> 0 | AD61: =F61+H61+J61+L61+N61+P61+R61+T61+V61+X61+Z61+AB61 -> 517.56
A62: 物流部-运输组 | B62: 保险费 | C62: =VLOOKUP(B62,核算科目!B:C,2,0) -> 日常费用项目 | D62: 华润沧州医药有限公司.物流部-运输组.销售费用-保险费-车辆保险.-.-.-.-.-.-.- | E62: 8736.84 | F62: 8992.54 | G62: 1781 | H62: 2071.47 | I62: 0 | J62: 0 | K62: 14917.11 | L62: 14338.3 | M62: 0 | N62: 0 | O62: 12176.92 | P62: 12670.28 | Q62: 7953.44 | R62: 8552.53 | S62: 0 | T62: 0 | U62: 0 | V62: 0 | W62: 0 | X62: 0 | Y62: 0 | Z62: 3825.56 | AA62: 4089.3 | AB62: 0 | AC62: =E62+G62+I62+K62+M62+O62+Q62+S62+U62+W62+Y62+AA62 -> 49654.61 | AD62: =F62+H62+J62+L62+N62+P62+R62+T62+V62+X62+Z62+AB62 -> 50450.68
A63: 物流部 | B63: 设备折旧 | C63: =VLOOKUP(B63,核算科目!B:C,2,0) -> 非付现费用 | D63: 华润沧州医药有限公司.物流部.销售费用-折旧费用.设备折旧.-.-.-.-.-.- | E63: 0 | F63: 120 | G63: 120 | H63: 120 | I63: 120 | J63: 120 | K63: 120 | L63: 120 | M63: 120 | N63: 120 | O63: 120 | P63: 120 | Q63: 120 | R63: 120 | S63: 120 | T63: 120 | U63: 120 | V63: 0 | W63: 120 | X63: 0 | Y63: 120 | Z63: 0 | AA63: 120 | AB63: 0 | AC63: =E63+G63+I63+K63+M63+O63+Q63+S63+U63+W63+Y63+AA63 -> 1320 | AD63: =F63+H63+J63+L63+N63+P63+R63+T63+V63+X63+Z63+AB63 -> 960
A64: 物流部-仓储组 | B64: 设备折旧 | C64: =VLOOKUP(B64,核算科目!B:C,2,0) -> 非付现费用 | D64: 华润沧州医药有限公司.物流部-仓储组.销售费用-折旧费用.设备折旧.-.-.-.-.-.- | E64: 14796.08 | F64: 9845.61 | G64: 14796.08 | H64: 9845.61 | I64: 14796.08 | J64: 9845.61 | K64: 14796.08 | L64: 9845.61 | M64: 15409.8 | N64: 9845.61 | O64: 15409.8 | P64: 9845.61 | Q64: 15409.8 | R64: 11456.97 | S64: 15409.8 | T64: 11456.97 | U64: 15409.8 | V64: 11456.97 | W64: 15409.8 | X64: 11456.97 | Y64: 14434.44 | Z64: 11456.97 | AA64: 14434.12 | AB64: 11456.97 | AC64: =E64+G64+I64+K64+M64+O64+Q64+S64+U64+W64+Y64+AA64 -> 180511.68 | AD64: =F64+H64+J64+L64+N64+P64+R64+T64+V64+X64+Z64+AB64 -> 127815.48
...

Sheet Sheet2
A1: 科目名称 | B1: 本期借方
A2: 华润沧州医药有限公司.物流部-仓储组.其他应收款-服务收入.-.-.-.-.-.-.- | B2: 0
A3: 华润沧州医药有限公司.物流部-仓储组.周转材料-低值易耗品.办公.-.-.-.-.-.- | B3: 0
A4: 华润沧州医药有限公司.物流部-综合组.周转材料-低值易耗品.办公.-.-.-.-.-.- | B4: 0
A5: 华润沧州医药有限公司.物流部-运输组.主营业务成本-运输成本.-.-.-.-.-.-.- | B5: 137384.93
A6: 华润沧州医药有限公司.物流部-运输组.税金及附加-车船税.-.-.-.-.-.-.- | B6: 0
A7: 华润沧州医药有限公司.物流部.销售费用-员工成本-工资.基本工资.-.-.-.-.-.- | B7: 29607.44
A8: 华润沧州医药有限公司.物流部-运输组.销售费用-员工成本-工资.基本工资.-.-.-.-.-.- | B8: 69774.06
A9: 华润沧州医药有限公司.物流部-仓储组.销售费用-员工成本-工资.基本工资.-.-.-.-.-.- | B9: 102709.21
A10: 华润沧州医药有限公司.物流部-综合组.销售费用-员工成本-工资.基本工资.-.-.-.-.-.- | B10: 5589
A11: 华润沧州医药有限公司.物流部.销售费用-员工成本-奖金.-.-.-.-.-.-.- | B11: 0
A12: 华润沧州医药有限公司.物流部-运输组.销售费用-员工成本-奖金.-.-.-.-.-.-.- | B12: 0
A13: 华润沧州医药有限公司.物流部-仓储组.销售费用-员工成本-奖金.-.-.-.-.-.-.- | B13: 0
... A92: 华润沧州医药有限公司.物流部-仓储组.营业外支出-固定资产报废损失.-.-.-.-.-.-.- | B92: 345

Sheet Sheet1
E2: 项目 | F2: 万元（不含税）
E3: 透析液计提3-4季度 | F3: 15
E4: 电费计提 | F4: 4
E5: 落地配计提 | F5: 6
E6: 油费计提 | F6: 2.2
E7: 物业费计提 | F7: 1.6
E8: 修车空调 | F8: 0.6
E9: 发货费 | F9: 0.4
E10: 车辆维修 | F10: 3.5
E11: 餐费 | F11: 0.9
E12: 合计 | F12: =SUM(F3:F11) -> 34.2
F13: =F12*10000 -> 342000

Sheet 核算科目
A1: 业务科目编码 | B1: 业务科目名称 | C1: 二级预算科目
A2: B01010101 | B2: 工资 | C2: 员工成本
A3: B01010102 | B3: 奖金 | C3: 员工成本
A4: B01010103 | B4: 津贴及补贴 | C4: 员工成本
A5: B01010104001 | B5: 基本养老保险 | C5: 员工成本
A6: B01010104002 | B6: 基本医疗保险 | C6: 员工成本
A7: B01010104003 | B7: 生育保险 | C7: 员工成本
A8: B01010104004 | B8: 失业保险 | C8: 员工成本
A9: B01010104005 | B9: 工伤保险 | C9: 员工成本
A10: B01010104006 | B10: 其他社会保险费 | C10: 员工成本
A11: B01010105 | B11: 职工住房公积金 | C11: 员工成本
A12: B01010106001 | B12: 食堂费用 | C12: 员工成本
... A115: B010206001 | B115: 使用权资产-房屋及建筑物/机器和仪器设备/交通运输工具/办公设备/其他使用权资产 | C115: 使用权资产（新租赁准则）
